BEGIN:VCALENDAR
VERSION:2.0
PRODID:-//Brandenburgische Genealogische Gesellschaft Roter Adler e. V: - ECPv6.15.20//NONSGML v1.0//EN
CALSCALE:GREGORIAN
METHOD:PUBLISH
X-WR-CALNAME:Brandenburgische Genealogische Gesellschaft Roter Adler e. V:
X-ORIGINAL-URL:https://www.bggroteradler.de
X-WR-CALDESC:Veranstaltungen für Brandenburgische Genealogische Gesellschaft Roter Adler e. V:
REFRESH-INTERVAL;VALUE=DURATION:PT1H
X-Robots-Tag:noindex
X-PUBLISHED-TTL:PT1H
BEGIN:VTIMEZONE
TZID:Europe/Berlin
BEGIN:DAYLIGHT
TZOFFSETFROM:+0100
TZOFFSETTO:+0200
TZNAME:CEST
DTSTART:20240331T010000
END:DAYLIGHT
BEGIN:STANDARD
TZOFFSETFROM:+0200
TZOFFSETTO:+0100
TZNAME:CET
DTSTART:20241027T010000
END:STANDARD
BEGIN:DAYLIGHT
TZOFFSETFROM:+0100
TZOFFSETTO:+0200
TZNAME:CEST
DTSTART:20250330T010000
END:DAYLIGHT
BEGIN:STANDARD
TZOFFSETFROM:+0200
TZOFFSETTO:+0100
TZNAME:CET
DTSTART:20251026T010000
END:STANDARD
BEGIN:DAYLIGHT
TZOFFSETFROM:+0100
TZOFFSETTO:+0200
TZNAME:CEST
DTSTART:20260329T010000
END:DAYLIGHT
BEGIN:STANDARD
TZOFFSETFROM:+0200
TZOFFSETTO:+0100
TZNAME:CET
DTSTART:20261025T010000
END:STANDARD
END:VTIMEZONE
BEGIN:VEVENT
DTSTART;TZID=Europe/Berlin:20251119T190000
DTEND;TZID=Europe/Berlin:20251119T203000
DTSTAMP:20260420T234302
CREATED:20250112T165142Z
LAST-MODIFIED:20250112T171340Z
UID:11412-1763578800-1763584200@www.bggroteradler.de
SUMMARY:Geschichts-Salon Falkensee: Thomasius\, der Aufklärer
DESCRIPTION:Christian Thomasius lebte von 1655 bis 1728\, war Jurist\, Publizist und Philosoph. Er wird als Wegbereiter der frühen Aufklärung in Deutschland bezeichnet. Ch. Thomasius trat für eine humanitäre Strafordnung ein und trug mit seinem Auftreten zur Beendigung der Hexenprozesse und Folter bei. Wie er das getan hat\, wird an diesem Abend durch die BGG Roter Adler e.V. berichtet. \nBitte anmelden über manuela.colombe@bggroteradler.de \nEs werden Getränke und kleine Snacks gereicht.
URL:https://www.bggroteradler.de/event/geschichts-salon-falkensee-thomasius-der-aufklaerer/
LOCATION:ASB-Mehrgenerationenhaus Falkensee\, Ruppiner Str. 15\, Falkensee\, Brandenburg\, 14612\, Germany
CATEGORIES:Offener Geschichts-Salon,Vor-Ort-Veranstaltung
ORGANIZER;CN="BGG 'Roter Adler' e.V.":MAILTO:kontakt@bggroteradler.de
END:VEVENT
END:VCALENDAR