BEGIN:VCALENDAR
VERSION:2.0
PRODID:-//Brandenburgische Genealogische Gesellschaft Roter Adler e. V: - ECPv6.15.20//NONSGML v1.0//EN
CALSCALE:GREGORIAN
METHOD:PUBLISH
X-ORIGINAL-URL:https://www.bggroteradler.de
X-WR-CALDESC:Veranstaltungen für Brandenburgische Genealogische Gesellschaft Roter Adler e. V:
REFRESH-INTERVAL;VALUE=DURATION:PT1H
X-Robots-Tag:noindex
X-PUBLISHED-TTL:PT1H
BEGIN:VTIMEZONE
TZID:Europe/Berlin
BEGIN:DAYLIGHT
TZOFFSETFROM:+0100
TZOFFSETTO:+0200
TZNAME:CEST
DTSTART:20250330T010000
END:DAYLIGHT
BEGIN:STANDARD
TZOFFSETFROM:+0200
TZOFFSETTO:+0100
TZNAME:CET
DTSTART:20251026T010000
END:STANDARD
BEGIN:DAYLIGHT
TZOFFSETFROM:+0100
TZOFFSETTO:+0200
TZNAME:CEST
DTSTART:20260329T010000
END:DAYLIGHT
BEGIN:STANDARD
TZOFFSETFROM:+0200
TZOFFSETTO:+0100
TZNAME:CET
DTSTART:20261025T010000
END:STANDARD
BEGIN:DAYLIGHT
TZOFFSETFROM:+0100
TZOFFSETTO:+0200
TZNAME:CEST
DTSTART:20270328T010000
END:DAYLIGHT
BEGIN:STANDARD
TZOFFSETFROM:+0200
TZOFFSETTO:+0100
TZNAME:CET
DTSTART:20271031T010000
END:STANDARD
END:VTIMEZONE
BEGIN:VEVENT
DTSTART;TZID=Europe/Berlin:20260312T200000
DTEND;TZID=Europe/Berlin:20260312T210000
DTSTAMP:20260420T095235
CREATED:20251102T164439Z
LAST-MODIFIED:20251102T170632Z
UID:12006-1773345600-1773349200@www.bggroteradler.de
SUMMARY:Geschichtswissen online: Thomasius - der Aufklärer
DESCRIPTION:Christian Thomasius lebte von 1655 bis 1728\, war Jurist\, Publizist und Philosoph. Er wird als Wegbereiter der frühen Aufklärung in Deutschland bezeichnet. Ch. Thomasius trat für eine humanitäre Strafordnung ein und trug mit seinem Auftreten zur Beendigung der Hexenprozesse und Folter bei. Wie er das getan hat\, wird an diesem Abend durch Dr. Gerd-Christian Treutler berichtet. \nAn Zoom-Meeting teilnehmen\nhttps://us06web.zoom.us/j/87268725903 \nMeeting-ID: 872 6872 5903\nKenncode: 514840 \nBeitreten – So geht’s\nhttps://us06web.zoom.us/meetings/87268725903/invitations?signature=xhifVqy9Oe5uYu6qthHTtrvoiEMMKpvZJVB2yHXkns4 \n 
URL:https://www.bggroteradler.de/event/geschichtswissen-online-thomasius-der-aufklaerer/
LOCATION:online per Zoom
CATEGORIES:BGG-Online-Treff
END:VEVENT
END:VCALENDAR