BEGIN:VCALENDAR
VERSION:2.0
PRODID:-//Brandenburgische Genealogische Gesellschaft Roter Adler e. V: - ECPv6.15.20//NONSGML v1.0//EN
CALSCALE:GREGORIAN
METHOD:PUBLISH
X-WR-CALNAME:Brandenburgische Genealogische Gesellschaft Roter Adler e. V:
X-ORIGINAL-URL:https://www.bggroteradler.de
X-WR-CALDESC:Veranstaltungen für Brandenburgische Genealogische Gesellschaft Roter Adler e. V:
REFRESH-INTERVAL;VALUE=DURATION:PT1H
X-Robots-Tag:noindex
X-PUBLISHED-TTL:PT1H
BEGIN:VTIMEZONE
TZID:Europe/Berlin
BEGIN:DAYLIGHT
TZOFFSETFROM:+0100
TZOFFSETTO:+0200
TZNAME:CEST
DTSTART:20250330T010000
END:DAYLIGHT
BEGIN:STANDARD
TZOFFSETFROM:+0200
TZOFFSETTO:+0100
TZNAME:CET
DTSTART:20251026T010000
END:STANDARD
BEGIN:DAYLIGHT
TZOFFSETFROM:+0100
TZOFFSETTO:+0200
TZNAME:CEST
DTSTART:20260329T010000
END:DAYLIGHT
BEGIN:STANDARD
TZOFFSETFROM:+0200
TZOFFSETTO:+0100
TZNAME:CET
DTSTART:20261025T010000
END:STANDARD
BEGIN:DAYLIGHT
TZOFFSETFROM:+0100
TZOFFSETTO:+0200
TZNAME:CEST
DTSTART:20270328T010000
END:DAYLIGHT
BEGIN:STANDARD
TZOFFSETFROM:+0200
TZOFFSETTO:+0100
TZNAME:CET
DTSTART:20271031T010000
END:STANDARD
END:VTIMEZONE
BEGIN:VEVENT
DTSTART;TZID=Europe/Berlin:20260114T190000
DTEND;TZID=Europe/Berlin:20260114T203000
DTSTAMP:20260421T063722
CREATED:20251102T091155Z
LAST-MODIFIED:20260101T124806Z
UID:11992-1768417200-1768422600@www.bggroteradler.de
SUMMARY:Geschichts-Salon Falkensee: Geschichte des heutigen ASB-Seniorenheims Ruppiner Straße in Falkensee
DESCRIPTION:Uwe Ulrich hat ausführlich zur Entstehung und Geschichte des Seniorenheimes in der Ruppiner Straße in Falkensee recherchiert. Wie das Gelände ursprünglich aussah und sich über Jahrhunderte zu dem entwickelt hat\, wie es heute ist\, wird er an diesem Abend berichten. \nBitte anmelden über veranstaltungen-2026@bggroteradler.de \nEs werden Getränke und kleine Snacks gereicht.
URL:https://www.bggroteradler.de/event/geschichts-salon-falkensee-geschichte-des-heutigen-asb-seniorenheims-ruppiner-strasse-in-falkensee/
LOCATION:ASB-Mehrgenerationenhaus Falkensee\, Ruppiner Str. 15\, Falkensee\, Brandenburg\, 14612\, Germany
CATEGORIES:Offener Geschichts-Salon
END:VEVENT
END:VCALENDAR