BEGIN:VCALENDAR
VERSION:2.0
PRODID:-//Brandenburgische Genealogische Gesellschaft Roter Adler e. V: - ECPv6.15.20//NONSGML v1.0//EN
CALSCALE:GREGORIAN
METHOD:PUBLISH
X-WR-CALNAME:Brandenburgische Genealogische Gesellschaft Roter Adler e. V:
X-ORIGINAL-URL:https://www.bggroteradler.de
X-WR-CALDESC:Veranstaltungen für Brandenburgische Genealogische Gesellschaft Roter Adler e. V:
REFRESH-INTERVAL;VALUE=DURATION:PT1H
X-Robots-Tag:noindex
X-PUBLISHED-TTL:PT1H
BEGIN:VTIMEZONE
TZID:Europe/Berlin
BEGIN:DAYLIGHT
TZOFFSETFROM:+0100
TZOFFSETTO:+0200
TZNAME:CEST
DTSTART:20220327T010000
END:DAYLIGHT
BEGIN:STANDARD
TZOFFSETFROM:+0200
TZOFFSETTO:+0100
TZNAME:CET
DTSTART:20221030T010000
END:STANDARD
BEGIN:DAYLIGHT
TZOFFSETFROM:+0100
TZOFFSETTO:+0200
TZNAME:CEST
DTSTART:20230326T010000
END:DAYLIGHT
BEGIN:STANDARD
TZOFFSETFROM:+0200
TZOFFSETTO:+0100
TZNAME:CET
DTSTART:20231029T010000
END:STANDARD
BEGIN:DAYLIGHT
TZOFFSETFROM:+0100
TZOFFSETTO:+0200
TZNAME:CEST
DTSTART:20240331T010000
END:DAYLIGHT
BEGIN:STANDARD
TZOFFSETFROM:+0200
TZOFFSETTO:+0100
TZNAME:CET
DTSTART:20241027T010000
END:STANDARD
END:VTIMEZONE
BEGIN:VEVENT
DTSTART;TZID=Europe/Berlin:20230610T120000
DTEND;TZID=Europe/Berlin:20230610T180000
DTSTAMP:20260422T030351
CREATED:20230608T101915Z
LAST-MODIFIED:20230608T101915Z
UID:9712-1686398400-1686420000@www.bggroteradler.de
SUMMARY:Miteinander!Fest 2023 in Falkensee
DESCRIPTION:Über 70 Verbände\, Vereine\, Unternehmen\, Projekte\, Initiativen und Hobbykünster*innen informieren und bieten Aktionen zum Thema Familie\, Frauen\, Soziales\, Umwelt und Demokratie. Es erwartet Sie eine Mischung aus Spiel\, Spaß und Information. Machen Sie mit und nutzen Sie die Gelegenheit\, sich bei den zahlreichen Ausstellerinnen und Ausstellern über die vielfältigen Angebote zu informieren. Das Leben ist bunt. Sich mit der Umwelt\, Familien- und Frauenthemen und auch unserer Demokratie zu beschäftigen\, soll Spaß machen.\nNatürlich ist auch die BGG mit einem Stand dabei und bietet insbesondere die Bücher seiner einmaligen familiengeschichtskundlichen Belletristikreihe an.
URL:https://www.bggroteradler.de/event/miteinanderfest-2023-in-falkensee/
LOCATION:Falkensee\, Gutspark\, Am Gutspark\, Falkensee\, Brandenburg\, 14612\, Germany
CATEGORIES:Vor-Ort-Veranstaltung
ATTACH;FMTTYPE=image/png:https://www.bggroteradler.de/wp-content/uploads/2023/06/MieinanderFest.png
END:VEVENT
BEGIN:VEVENT
DTSTART;TZID=Europe/Berlin:20230610T223000
DTEND;TZID=Europe/Berlin:20230610T233000
DTSTAMP:20260422T030351
CREATED:20230608T101026Z
LAST-MODIFIED:20230608T101026Z
UID:9709-1686436200-1686439800@www.bggroteradler.de
SUMMARY:IGGP Conference: Brandenburg Connection Session
DESCRIPTION:Die BGG beteiligt sich mit einer virtuellen Ausstellung und einer live Online-Session an der diesjährigen IGGP Conference in Fort Wayne\, Indiana. An der Online-Veranstaltung kann jeder teilnehmen\, der sich auf der Webseite der Veranstaltung kostenfrei anmeldet.
URL:https://www.bggroteradler.de/event/iggp-conference-brandenburg-connection-session/
LOCATION:Online
CATEGORIES:Online-Veranstaltung
ATTACH;FMTTYPE=image/png:https://www.bggroteradler.de/wp-content/uploads/2023/06/IGGP-2023.png
ORGANIZER;CN="BGG 'Roter Adler' e.V.":MAILTO:kontakt@bggroteradler.de
END:VEVENT
END:VCALENDAR