BEGIN:VCALENDAR
VERSION:2.0
PRODID:-//Brandenburgische Genealogische Gesellschaft Roter Adler e. V: - ECPv6.15.20//NONSGML v1.0//EN
CALSCALE:GREGORIAN
METHOD:PUBLISH
X-ORIGINAL-URL:https://www.bggroteradler.de
X-WR-CALDESC:Veranstaltungen für Brandenburgische Genealogische Gesellschaft Roter Adler e. V:
REFRESH-INTERVAL;VALUE=DURATION:PT1H
X-Robots-Tag:noindex
X-PUBLISHED-TTL:PT1H
BEGIN:VTIMEZONE
TZID:Europe/Berlin
BEGIN:DAYLIGHT
TZOFFSETFROM:+0100
TZOFFSETTO:+0200
TZNAME:CEST
DTSTART:20220327T010000
END:DAYLIGHT
BEGIN:STANDARD
TZOFFSETFROM:+0200
TZOFFSETTO:+0100
TZNAME:CET
DTSTART:20221030T010000
END:STANDARD
BEGIN:DAYLIGHT
TZOFFSETFROM:+0100
TZOFFSETTO:+0200
TZNAME:CEST
DTSTART:20230326T010000
END:DAYLIGHT
BEGIN:STANDARD
TZOFFSETFROM:+0200
TZOFFSETTO:+0100
TZNAME:CET
DTSTART:20231029T010000
END:STANDARD
BEGIN:DAYLIGHT
TZOFFSETFROM:+0100
TZOFFSETTO:+0200
TZNAME:CEST
DTSTART:20240331T010000
END:DAYLIGHT
BEGIN:STANDARD
TZOFFSETFROM:+0200
TZOFFSETTO:+0100
TZNAME:CET
DTSTART:20241027T010000
END:STANDARD
END:VTIMEZONE
BEGIN:VEVENT
DTSTART;TZID=Europe/Berlin:20230831T180000
DTEND;TZID=Europe/Berlin:20230831T193000
DTSTAMP:20260422T030605
CREATED:20230708T154319Z
LAST-MODIFIED:20230708T154319Z
UID:9837-1693504800-1693510200@www.bggroteradler.de
SUMMARY:Fabulas familiaris - Lesung aus unserer Belletristikreihe
DESCRIPTION:„Fabulas familiaris“ ist der Name unserer Belletristikreihe im BGG-Verlag und damit einmalig in der familien- und regionalgeschichtlichen Vereinslandschaft.\nHier gilt das Prinzip: „Alles Wahrscheinliche ist zu dichten\, das Unwahrscheinliche zu belegen.“\nLassen Sie sich entführen in längst vergangene Zeiten hier in der Mark Brandenburg und\, passend zum Veranstaltungsort\, in das frühere Falkenhagen\, heute ein Stadtteil von Falkensee.\nDer Historiker\, Herausgeber und Autor Dr. Gerd-Christian Treutler liest im Bürgerhaus Finkenkrug aus seinen „Märkischen Geschichten“\, aber auch anderen Werken unserer Reihe.
URL:https://www.bggroteradler.de/event/fabulas-familiaris-lesung-aus-unserer-belletristikreihe/
LOCATION:Bürgerhaus Finkenkrug\, Feuerbachstr. 23\, Falkensee\, Brandenburg\, 14612\, Germany
CATEGORIES:Lesung,Vor-Ort-Veranstaltung
ATTACH;FMTTYPE=image/jpeg:https://www.bggroteradler.de/wp-content/uploads/2014/09/Foto3_thumb.jpg
ORGANIZER;CN="BGG 'Roter Adler' e.V.":MAILTO:kontakt@bggroteradler.de
END:VEVENT
END:VCALENDAR