BEGIN:VCALENDAR
VERSION:2.0
PRODID:-//Brandenburgische Genealogische Gesellschaft Roter Adler e. V: - ECPv6.15.20//NONSGML v1.0//EN
CALSCALE:GREGORIAN
METHOD:PUBLISH
X-ORIGINAL-URL:https://www.bggroteradler.de
X-WR-CALDESC:Veranstaltungen für Brandenburgische Genealogische Gesellschaft Roter Adler e. V:
REFRESH-INTERVAL;VALUE=DURATION:PT1H
X-Robots-Tag:noindex
X-PUBLISHED-TTL:PT1H
BEGIN:VTIMEZONE
TZID:Europe/Berlin
BEGIN:DAYLIGHT
TZOFFSETFROM:+0100
TZOFFSETTO:+0200
TZNAME:CEST
DTSTART:20250330T010000
END:DAYLIGHT
BEGIN:STANDARD
TZOFFSETFROM:+0200
TZOFFSETTO:+0100
TZNAME:CET
DTSTART:20251026T010000
END:STANDARD
BEGIN:DAYLIGHT
TZOFFSETFROM:+0100
TZOFFSETTO:+0200
TZNAME:CEST
DTSTART:20260329T010000
END:DAYLIGHT
BEGIN:STANDARD
TZOFFSETFROM:+0200
TZOFFSETTO:+0100
TZNAME:CET
DTSTART:20261025T010000
END:STANDARD
BEGIN:DAYLIGHT
TZOFFSETFROM:+0100
TZOFFSETTO:+0200
TZNAME:CEST
DTSTART:20270328T010000
END:DAYLIGHT
BEGIN:STANDARD
TZOFFSETFROM:+0200
TZOFFSETTO:+0100
TZNAME:CET
DTSTART:20271031T010000
END:STANDARD
END:VTIMEZONE
BEGIN:VEVENT
DTSTART;TZID=Europe/Berlin:20261210T200000
DTEND;TZID=Europe/Berlin:20261210T210000
DTSTAMP:20260422T030629
CREATED:20251112T190739Z
LAST-MODIFIED:20260101T114642Z
UID:12058-1796932800-1796936400@www.bggroteradler.de
SUMMARY:Geschichtswissen online: Möglichkeiten der Datenerfassung in der BGG
DESCRIPTION:Thomas Kraft ist mit Christian Jantc im Gespräch über die verschiedenen Datenbanken in der BGG. Dabei werden die Möglichkeiten der Datenerfassung durch Interessierte besprochen. \nAn Zoom-Meeting teilnehmen\nhttps://us06web.zoom.us/j/86578686987 \nMeeting-ID: 865 7868 6987\nKenncode: 881769 \nBeitreten – So geht’s\nhttps://us06web.zoom.us/meetings/86578686987/invitations?signature=qvbYHag0wxmgRcqfyTt_gb0CQ2hA_fr3ulOvryNsIC4 \n 
URL:https://www.bggroteradler.de/event/geschichtswissen-online-moeglichkeiten-der-datenerfassung-in-der-bgg/
LOCATION:online per Zoom
CATEGORIES:Online-Veranstaltung
END:VEVENT
BEGIN:VEVENT
DTSTART;TZID=Europe/Berlin:20261216T190000
DTEND;TZID=Europe/Berlin:20261216T203000
DTSTAMP:20260422T030629
CREATED:20251112T085803Z
LAST-MODIFIED:20260101T123629Z
UID:12048-1797447600-1797453000@www.bggroteradler.de
SUMMARY:Geschichts-Salon Falkensee: Menschenopfer in der frühen Neuzeit
DESCRIPTION:Dr. Gerd-Christian Treutler berichtet über Menschenopfer in der Frühen Neuzeit. \nBitte anmelden über veranstaltungen-2026@bggroteradler.de \nEs werden Getränke und kleine Snacks gereicht.
URL:https://www.bggroteradler.de/event/geschichts-salon-falkensee-menschenopfer-in-der-fruehen-neuzeit/
LOCATION:ASB-Mehrgenerationenhaus Falkensee\, Ruppiner Str. 15\, Falkensee\, Brandenburg\, 14612\, Germany
CATEGORIES:Offener Geschichts-Salon
END:VEVENT
END:VCALENDAR