BEGIN:VCALENDAR
VERSION:2.0
PRODID:-//Brandenburgische Genealogische Gesellschaft Roter Adler e. V: - ECPv6.15.20//NONSGML v1.0//EN
CALSCALE:GREGORIAN
METHOD:PUBLISH
X-WR-CALNAME:Brandenburgische Genealogische Gesellschaft Roter Adler e. V:
X-ORIGINAL-URL:https://www.bggroteradler.de
X-WR-CALDESC:Veranstaltungen für Brandenburgische Genealogische Gesellschaft Roter Adler e. V:
REFRESH-INTERVAL;VALUE=DURATION:PT1H
X-Robots-Tag:noindex
X-PUBLISHED-TTL:PT1H
BEGIN:VTIMEZONE
TZID:Europe/Berlin
BEGIN:DAYLIGHT
TZOFFSETFROM:+0100
TZOFFSETTO:+0200
TZNAME:CEST
DTSTART:20250330T010000
END:DAYLIGHT
BEGIN:STANDARD
TZOFFSETFROM:+0200
TZOFFSETTO:+0100
TZNAME:CET
DTSTART:20251026T010000
END:STANDARD
BEGIN:DAYLIGHT
TZOFFSETFROM:+0100
TZOFFSETTO:+0200
TZNAME:CEST
DTSTART:20260329T010000
END:DAYLIGHT
BEGIN:STANDARD
TZOFFSETFROM:+0200
TZOFFSETTO:+0100
TZNAME:CET
DTSTART:20261025T010000
END:STANDARD
BEGIN:DAYLIGHT
TZOFFSETFROM:+0100
TZOFFSETTO:+0200
TZNAME:CEST
DTSTART:20270328T010000
END:DAYLIGHT
BEGIN:STANDARD
TZOFFSETFROM:+0200
TZOFFSETTO:+0100
TZNAME:CET
DTSTART:20271031T010000
END:STANDARD
END:VTIMEZONE
BEGIN:VEVENT
DTSTART;TZID=Europe/Berlin:20260220T170000
DTEND;TZID=Europe/Berlin:20260222T163000
DTSTAMP:20260423T114331
CREATED:20240227T082723Z
LAST-MODIFIED:20260111T182804Z
UID:10909-1771606800-1771777800@www.bggroteradler.de
SUMMARY:Genealogieseminar 2026 in Werneuchen
DESCRIPTION:Genealogie-Seminar in Werneuchen: 20.-22. Februar 2026 \nAnschrift: \nJugenbildungsstätte Kurt-Löwenstein e.V.\nFreienwalder Allee 8-10\n16356 Werneuchen \nPreis des WE-Seminars bei Vollverpflegung: 295 € pro Teilnehmer. \nBGG-Mitglieder erhalten einen Rabatt in Höhe von 45 € (Preis insgesamt 250€). \ngeplante Themen: \n\nHäuserbuch Suckow – Referent Henry Kuritz\nCold Cases (Tote Punkte) – Referenten Thomas Kraft und Lutz Bachmann\nKI – künstliche Intelligenz in der Ahnenforschung für Einsteiger – Referenten Thomas Kraft und Christian Jantc\nOrtsfamilienbücher: Erstellung eines OFB allg. und Nutzung des neuen OFB-Werkzeuges von Ahnenblatt – Referent Thomas Kraft\nStadtführung durch Werneuchen\n\nBei Interesse bitte anmelden über veranstaltungen-2026@bggroteradler.de \nStornokosten: \nbei Abmeldung von 56 Tagen vor Veranstaltungsbeginn 50% \nvon 42 Tagen vor Veranstaltungsbeginn 60% \nvon 28 Tagen vor Veranstaltungsbeginn 80% \nvon 14 Tagen vor Veranstaltungsbeginn 90% des Preises. \nWir versuchen jedoch\, bei Absagen die Plätze kurzfristig zu belegen.
URL:https://www.bggroteradler.de/event/genealogieseminar-2026-in-werneuchen/
END:VEVENT
END:VCALENDAR