BEGIN:VCALENDAR
VERSION:2.0
PRODID:-//Brandenburgische Genealogische Gesellschaft Roter Adler e. V: - ECPv6.15.20//NONSGML v1.0//EN
CALSCALE:GREGORIAN
METHOD:PUBLISH
X-WR-CALNAME:Brandenburgische Genealogische Gesellschaft Roter Adler e. V:
X-ORIGINAL-URL:https://www.bggroteradler.de
X-WR-CALDESC:Veranstaltungen für Brandenburgische Genealogische Gesellschaft Roter Adler e. V:
REFRESH-INTERVAL;VALUE=DURATION:PT1H
X-Robots-Tag:noindex
X-PUBLISHED-TTL:PT1H
BEGIN:VTIMEZONE
TZID:Europe/Berlin
BEGIN:DAYLIGHT
TZOFFSETFROM:+0100
TZOFFSETTO:+0200
TZNAME:CEST
DTSTART:20230326T010000
END:DAYLIGHT
BEGIN:STANDARD
TZOFFSETFROM:+0200
TZOFFSETTO:+0100
TZNAME:CET
DTSTART:20231029T010000
END:STANDARD
BEGIN:DAYLIGHT
TZOFFSETFROM:+0100
TZOFFSETTO:+0200
TZNAME:CEST
DTSTART:20240331T010000
END:DAYLIGHT
BEGIN:STANDARD
TZOFFSETFROM:+0200
TZOFFSETTO:+0100
TZNAME:CET
DTSTART:20241027T010000
END:STANDARD
BEGIN:DAYLIGHT
TZOFFSETFROM:+0100
TZOFFSETTO:+0200
TZNAME:CEST
DTSTART:20250330T010000
END:DAYLIGHT
BEGIN:STANDARD
TZOFFSETFROM:+0200
TZOFFSETTO:+0100
TZNAME:CET
DTSTART:20251026T010000
END:STANDARD
END:VTIMEZONE
BEGIN:VEVENT
DTSTART;TZID=Europe/Berlin:20241128T190000
DTEND;TZID=Europe/Berlin:20241128T203000
DTSTAMP:20260422T012604
CREATED:20241112T180116Z
LAST-MODIFIED:20241128T171421Z
UID:11158-1732820400-1732825800@www.bggroteradler.de
SUMMARY:online Treffen: Heredis 2025 - 30 Jahre Genealogiesoftware aus Frankreich
DESCRIPTION:Vorstellung und Diskussion der aktuellen Version mit Mitarbeitern von Heredis \nZoom Meeting\nhttps://us06web.zoom.us/j/81766762043 \nMeeting-ID: 817 6676 2043 \n 
URL:https://www.bggroteradler.de/event/online-treffen-heredis-2025-30-jahre-genealogiesoftware-aus-frankreich/
LOCATION:online per Zoom
CATEGORIES:BGG-Online-Treff,Online-Veranstaltung
ATTACH;FMTTYPE=image/jpeg:https://www.bggroteradler.de/wp-content/uploads/2022/11/video-conference-gb90d5e623_1920.jpg
ORGANIZER;CN="BGG 'Roter Adler' e.V.":MAILTO:kontakt@bggroteradler.de
END:VEVENT
END:VCALENDAR