BEGIN:VCALENDAR
VERSION:2.0
PRODID:-//Brandenburgische Genealogische Gesellschaft Roter Adler e. V: - ECPv6.15.20//NONSGML v1.0//EN
CALSCALE:GREGORIAN
METHOD:PUBLISH
X-WR-CALNAME:Brandenburgische Genealogische Gesellschaft Roter Adler e. V:
X-ORIGINAL-URL:https://www.bggroteradler.de
X-WR-CALDESC:Veranstaltungen für Brandenburgische Genealogische Gesellschaft Roter Adler e. V:
REFRESH-INTERVAL;VALUE=DURATION:PT1H
X-Robots-Tag:noindex
X-PUBLISHED-TTL:PT1H
BEGIN:VTIMEZONE
TZID:Europe/Berlin
BEGIN:DAYLIGHT
TZOFFSETFROM:+0100
TZOFFSETTO:+0200
TZNAME:CEST
DTSTART:20230326T010000
END:DAYLIGHT
BEGIN:STANDARD
TZOFFSETFROM:+0200
TZOFFSETTO:+0100
TZNAME:CET
DTSTART:20231029T010000
END:STANDARD
BEGIN:DAYLIGHT
TZOFFSETFROM:+0100
TZOFFSETTO:+0200
TZNAME:CEST
DTSTART:20240331T010000
END:DAYLIGHT
BEGIN:STANDARD
TZOFFSETFROM:+0200
TZOFFSETTO:+0100
TZNAME:CET
DTSTART:20241027T010000
END:STANDARD
BEGIN:DAYLIGHT
TZOFFSETFROM:+0100
TZOFFSETTO:+0200
TZNAME:CEST
DTSTART:20250330T010000
END:DAYLIGHT
BEGIN:STANDARD
TZOFFSETFROM:+0200
TZOFFSETTO:+0100
TZNAME:CET
DTSTART:20251026T010000
END:STANDARD
END:VTIMEZONE
BEGIN:VEVENT
DTSTART;TZID=Europe/Berlin:20241120T190000
DTEND;TZID=Europe/Berlin:20241120T203000
DTSTAMP:20260422T095338
CREATED:20240107T100232Z
LAST-MODIFIED:20240107T102554Z
UID:10419-1732129200-1732134600@www.bggroteradler.de
SUMMARY:Geschichts-Salon: Handschriftenkunde 16. bis 19. Jh.
DESCRIPTION:Bei der Familienforschung ist es unerlässlich\, sich mit den Handschriften früherer Jahrhunderte auseinander zu setzen. Viele von uns können diese kaum lesen. Wir wollen an diesem Abend Tipps und Hinweise geben\, wie die Handschriften zu lesen sind. Welcher Buchstabe könnte welcher sein? Wie kann man Worte erahnen? Es besteht auch die Möglichkeit\, Schriftübungen durchzuführen. So lernt es sich besser\, die alten Handschriften zu begreifen. Tintenfass und Feder werden bereit gestellt. \nBitte anmelden über manuela.colombe@bggroteradler.de \nVeranstaltungsort: ASB Ruppiner Str. 15 in Falkensee im Mehrgenerationenhaus \nGetränke und Knabbereien werden zum kleinen Preis bereitgestellt.
URL:https://www.bggroteradler.de/event/geschichts-salon-handschriftenkunde-16-bis-19-jh/
LOCATION:ASB-Mehrgenerationenhaus Falkensee\, Ruppiner Str. 15\, Falkensee\, Brandenburg\, 14612\, Germany
CATEGORIES:Offener Geschichts-Salon
ORGANIZER;CN="BGG 'Roter Adler' e.V.":MAILTO:kontakt@bggroteradler.de
END:VEVENT
END:VCALENDAR