BEGIN:VCALENDAR
VERSION:2.0
PRODID:-//Brandenburgische Genealogische Gesellschaft Roter Adler e. V: - ECPv6.15.20//NONSGML v1.0//EN
CALSCALE:GREGORIAN
METHOD:PUBLISH
X-WR-CALNAME:Brandenburgische Genealogische Gesellschaft Roter Adler e. V:
X-ORIGINAL-URL:https://www.bggroteradler.de
X-WR-CALDESC:Veranstaltungen für Brandenburgische Genealogische Gesellschaft Roter Adler e. V:
REFRESH-INTERVAL;VALUE=DURATION:PT1H
X-Robots-Tag:noindex
X-PUBLISHED-TTL:PT1H
BEGIN:VTIMEZONE
TZID:Europe/Berlin
BEGIN:DAYLIGHT
TZOFFSETFROM:+0100
TZOFFSETTO:+0200
TZNAME:CEST
DTSTART:20230326T010000
END:DAYLIGHT
BEGIN:STANDARD
TZOFFSETFROM:+0200
TZOFFSETTO:+0100
TZNAME:CET
DTSTART:20231029T010000
END:STANDARD
BEGIN:DAYLIGHT
TZOFFSETFROM:+0100
TZOFFSETTO:+0200
TZNAME:CEST
DTSTART:20240331T010000
END:DAYLIGHT
BEGIN:STANDARD
TZOFFSETFROM:+0200
TZOFFSETTO:+0100
TZNAME:CET
DTSTART:20241027T010000
END:STANDARD
BEGIN:DAYLIGHT
TZOFFSETFROM:+0100
TZOFFSETTO:+0200
TZNAME:CEST
DTSTART:20250330T010000
END:DAYLIGHT
BEGIN:STANDARD
TZOFFSETFROM:+0200
TZOFFSETTO:+0100
TZNAME:CET
DTSTART:20251026T010000
END:STANDARD
END:VTIMEZONE
BEGIN:VEVENT
DTSTART;TZID=Europe/Berlin:20241117T150000
DTEND;TZID=Europe/Berlin:20241117T163000
DTSTAMP:20260422T095342
CREATED:20240710T070723Z
LAST-MODIFIED:20240710T070849Z
UID:11025-1731855600-1731861000@www.bggroteradler.de
SUMMARY:Lesung: "Der Dorfschneider von Kerzlin" -  in Berlin
DESCRIPTION:Wir laden ein zur Lesung des neu erschienenen Buches „Der Dorfschneider von Kerzlin“. Der Autor Volkhard Paris liest aus seinem Buch\, das uns in die Zeit seiner Vorfahren ab ca. 1630 versetzen wird. \nVolkhard Paris erzählt die Lebensgeschichte von Erdman Paris (1633-1677)\, seinem direkten Vorfahren aus dem Kreis Ruppin. Kossätensohn Erdman Paris ist es mit viel Ausdauer\, Fleiß und auch Glück gelungen\, den Dreißigjährigen Krieg und die Pest im Ruppiner Land zu überleben\, als Kossätensohn das Handwerk eines Schneiders zu erlernen\, in der aufstrebenden Residenz Berlin zurechtzukommen und auf dem Lande sein Auskommen zu finden\, was oft mehr Sorgen als Lohn einbrachte. Sehr beeindruckend wird auch der Stand der Zünfte in dieser Zeit beschrieben. Freuen Sie sich auf dieses spannende Sittengemälde aus einer Zeit der großen Umbrüche! \nVeranstaltungsort: Berlin\, Pfarrsaal der Kath. Gemeinde Herz Jesu\, Zugang über Schönhauser Allee 182 \nBitte anmelden per E-Mail über manuela.colombe@bggroteradler.de \n 
URL:https://www.bggroteradler.de/event/lesung-der-dorfschneider-von-kerzlin-in-berlin/
CATEGORIES:Lesung
ATTACH;FMTTYPE=image/jpeg:https://www.bggroteradler.de/wp-content/uploads/2024/05/Dorfschneider-8-1-Titel.jpg
END:VEVENT
END:VCALENDAR