BEGIN:VCALENDAR
VERSION:2.0
PRODID:-//Brandenburgische Genealogische Gesellschaft Roter Adler e. V: - ECPv6.15.20//NONSGML v1.0//EN
CALSCALE:GREGORIAN
METHOD:PUBLISH
X-WR-CALNAME:Brandenburgische Genealogische Gesellschaft Roter Adler e. V:
X-ORIGINAL-URL:https://www.bggroteradler.de
X-WR-CALDESC:Veranstaltungen für Brandenburgische Genealogische Gesellschaft Roter Adler e. V:
REFRESH-INTERVAL;VALUE=DURATION:PT1H
X-Robots-Tag:noindex
X-PUBLISHED-TTL:PT1H
BEGIN:VTIMEZONE
TZID:Europe/Berlin
BEGIN:DAYLIGHT
TZOFFSETFROM:+0100
TZOFFSETTO:+0200
TZNAME:CEST
DTSTART:20230326T010000
END:DAYLIGHT
BEGIN:STANDARD
TZOFFSETFROM:+0200
TZOFFSETTO:+0100
TZNAME:CET
DTSTART:20231029T010000
END:STANDARD
BEGIN:DAYLIGHT
TZOFFSETFROM:+0100
TZOFFSETTO:+0200
TZNAME:CEST
DTSTART:20240331T010000
END:DAYLIGHT
BEGIN:STANDARD
TZOFFSETFROM:+0200
TZOFFSETTO:+0100
TZNAME:CET
DTSTART:20241027T010000
END:STANDARD
BEGIN:DAYLIGHT
TZOFFSETFROM:+0100
TZOFFSETTO:+0200
TZNAME:CEST
DTSTART:20250330T010000
END:DAYLIGHT
BEGIN:STANDARD
TZOFFSETFROM:+0200
TZOFFSETTO:+0100
TZNAME:CET
DTSTART:20251026T010000
END:STANDARD
END:VTIMEZONE
BEGIN:VEVENT
DTSTART;TZID=Europe/Berlin:20241114T200000
DTEND;TZID=Europe/Berlin:20241114T210000
DTSTAMP:20260422T095332
CREATED:20240107T110758Z
LAST-MODIFIED:20240112T185126Z
UID:10435-1731614400-1731618000@www.bggroteradler.de
SUMMARY:online Treffen: Ist das Wandern wirklich des Müllers Lust? Unstete Berufe in der Frühen Neuzeit
DESCRIPTION:Dr. Gerd-Christian Treutler stellt Berufe aus früheren Jahrhunderten vor. Insbesondere am Beruf des Müllers wird erläutert\, ob dieser wirklich gern auf Wanderschaft ging und warum das so war.\nWie mobil waren unsere Vorfahren? Warum gingen Menschen auf Reisen? Was versteht man unter unsteten Berufen? Und hat dies etwas mit der Unehrlichkeit zu tun?\nAll diesen Fragen wollen wir uns nähern und vielleicht eine neue Sichtweise auf das Erwerbsleben unserer Vorfahren finden \nBeitreten Zoom Meeting\nhttps://us06web.zoom.us/j/89154327733 \nMeeting-ID: 891 5432 7733\nKenncode: 194882 \n 
URL:https://www.bggroteradler.de/event/online-treffen-ist-das-wandern-wirklich-des-muellers-lust-unstete-berufe-in-der-fruehen-neuzeit/
CATEGORIES:BGG-Online-Treff
END:VEVENT
END:VCALENDAR