BEGIN:VCALENDAR
VERSION:2.0
PRODID:-//Brandenburgische Genealogische Gesellschaft Roter Adler e. V: - ECPv6.15.20//NONSGML v1.0//EN
CALSCALE:GREGORIAN
METHOD:PUBLISH
X-ORIGINAL-URL:https://www.bggroteradler.de
X-WR-CALDESC:Veranstaltungen für Brandenburgische Genealogische Gesellschaft Roter Adler e. V:
REFRESH-INTERVAL;VALUE=DURATION:PT1H
X-Robots-Tag:noindex
X-PUBLISHED-TTL:PT1H
BEGIN:VTIMEZONE
TZID:Europe/Berlin
BEGIN:DAYLIGHT
TZOFFSETFROM:+0100
TZOFFSETTO:+0200
TZNAME:CEST
DTSTART:20230326T010000
END:DAYLIGHT
BEGIN:STANDARD
TZOFFSETFROM:+0200
TZOFFSETTO:+0100
TZNAME:CET
DTSTART:20231029T010000
END:STANDARD
BEGIN:DAYLIGHT
TZOFFSETFROM:+0100
TZOFFSETTO:+0200
TZNAME:CEST
DTSTART:20240331T010000
END:DAYLIGHT
BEGIN:STANDARD
TZOFFSETFROM:+0200
TZOFFSETTO:+0100
TZNAME:CET
DTSTART:20241027T010000
END:STANDARD
BEGIN:DAYLIGHT
TZOFFSETFROM:+0100
TZOFFSETTO:+0200
TZNAME:CEST
DTSTART:20250330T010000
END:DAYLIGHT
BEGIN:STANDARD
TZOFFSETFROM:+0200
TZOFFSETTO:+0100
TZNAME:CET
DTSTART:20251026T010000
END:STANDARD
END:VTIMEZONE
BEGIN:VEVENT
DTSTART;TZID=Europe/Berlin:20240320T190000
DTEND;TZID=Europe/Berlin:20240320T203000
DTSTAMP:20260421T135407
CREATED:20240107T092738Z
LAST-MODIFIED:20240107T101411Z
UID:10404-1710961200-1710966600@www.bggroteradler.de
SUMMARY:Geschichts-Salon: Ein preußischer Forsthof um 1800 am Beispiel der Oberförsterei Falkenhagen
DESCRIPTION:Die BGG Roter Adler stellt den typischen Forsthof um 1800 vor. Dabei wird das Leben der Bewohner sowie die Bewirtschaftung dargestellt. \nBitte anmelden über manuela.colombe@bggroteradler.de \nVeranstaltungsort: ASB Ruppiner Str. 15 in Falkensee im Mehrgenerationenhaus \nGetränke und Knabbereien werden zum kleinen Preis bereitgestellt.
URL:https://www.bggroteradler.de/event/geschichts-salon-ein-preussischer-forsthof-um-1800-am-beispiel-der-oberfoersterei-falkenhagen/
LOCATION:ASB-Mehrgenerationenhaus Falkensee\, Ruppiner Str. 15\, Falkensee\, Brandenburg\, 14612\, Germany
CATEGORIES:Offener Geschichts-Salon
ATTACH;FMTTYPE=image/jpeg:https://www.bggroteradler.de/wp-content/uploads/2023/12/geschichtssalon-1.jpg
ORGANIZER;CN="BGG 'Roter Adler' e.V.":MAILTO:kontakt@bggroteradler.de
END:VEVENT
END:VCALENDAR