BEGIN:VCALENDAR
VERSION:2.0
PRODID:-//Brandenburgische Genealogische Gesellschaft Roter Adler e. V: - ECPv6.15.20//NONSGML v1.0//EN
CALSCALE:GREGORIAN
METHOD:PUBLISH
X-ORIGINAL-URL:https://www.bggroteradler.de
X-WR-CALDESC:Veranstaltungen für Brandenburgische Genealogische Gesellschaft Roter Adler e. V:
REFRESH-INTERVAL;VALUE=DURATION:PT1H
X-Robots-Tag:noindex
X-PUBLISHED-TTL:PT1H
BEGIN:VTIMEZONE
TZID:Europe/Berlin
BEGIN:DAYLIGHT
TZOFFSETFROM:+0100
TZOFFSETTO:+0200
TZNAME:CEST
DTSTART:20220327T010000
END:DAYLIGHT
BEGIN:STANDARD
TZOFFSETFROM:+0200
TZOFFSETTO:+0100
TZNAME:CET
DTSTART:20221030T010000
END:STANDARD
BEGIN:DAYLIGHT
TZOFFSETFROM:+0100
TZOFFSETTO:+0200
TZNAME:CEST
DTSTART:20230326T010000
END:DAYLIGHT
BEGIN:STANDARD
TZOFFSETFROM:+0200
TZOFFSETTO:+0100
TZNAME:CET
DTSTART:20231029T010000
END:STANDARD
BEGIN:DAYLIGHT
TZOFFSETFROM:+0100
TZOFFSETTO:+0200
TZNAME:CEST
DTSTART:20240331T010000
END:DAYLIGHT
BEGIN:STANDARD
TZOFFSETFROM:+0200
TZOFFSETTO:+0100
TZNAME:CET
DTSTART:20241027T010000
END:STANDARD
END:VTIMEZONE
BEGIN:VEVENT
DTSTART;TZID=Europe/Berlin:20231108T200000
DTEND;TZID=Europe/Berlin:20231108T210000
DTSTAMP:20260419T233614
CREATED:20231016T190529Z
LAST-MODIFIED:20231018T191559Z
UID:10059-1699473600-1699477200@www.bggroteradler.de
SUMMARY:BGG-Online-Treffen: Beispiele für genealogisch bedeutsame Verwaltungsakten
DESCRIPTION:Verwaltungsakten scheinen zunächst einmal nicht das Ziel genealogischer Forschung zu sein\, doch wird ihr Potential vielfach unterschätzt. Gerade auch für die überwältigende Bevölkerungsmehrheit auf dem Lande geben gerade im 18. Jh. die Akten der Verwaltung der königlichen Domänengüter\, der kirchlichen Verwaltung und auch vieler Gutsarchive einen Einblick in das Leben\, Besitz\, Abgaben und Streitigkeiten der Dorfbewohner.\nDr. Gerd-Christian Treutler macht dies an einer Reihe von Beispielen aus dem Bestand des Brandenburgischen Landeshauptarchives deutlich. \nBGG „Roter Adler“ e.V. lädt Sie zu einem geplanten Zoom-Meeting ein. \nhttps://us06web.zoom.us/j/84967475652 \nThema: BGG-Online-Treffen – Zoom Meeting von BGG „Roter Adler“ e.V.\nZeit: 8.Nov. 2023 08:00 PM Amsterdam\, Berlin\, Rom\, Stockholm\, Wien \nBeitreten Zoom Meeting\nLink zum Zoom-Meeting \nMeeting-ID: 849 6747 5652
URL:https://www.bggroteradler.de/event/bgg-online-treffen-beispiele-fuer-genealogisch-bedeutsame-verwaltungsakten/
LOCATION:online per Zoom
CATEGORIES:BGG-Online-Treff,Online-Veranstaltung
ATTACH;FMTTYPE=image/jpeg:https://www.bggroteradler.de/wp-content/uploads/2022/11/video-conference-gb90d5e623_1920.jpg
ORGANIZER;CN="BGG 'Roter Adler' e.V.":MAILTO:kontakt@bggroteradler.de
END:VEVENT
END:VCALENDAR