BEGIN:VCALENDAR
VERSION:2.0
PRODID:-//Brandenburgische Genealogische Gesellschaft Roter Adler e. V: - ECPv6.15.20//NONSGML v1.0//EN
CALSCALE:GREGORIAN
METHOD:PUBLISH
X-ORIGINAL-URL:https://www.bggroteradler.de
X-WR-CALDESC:Veranstaltungen für Brandenburgische Genealogische Gesellschaft Roter Adler e. V:
REFRESH-INTERVAL;VALUE=DURATION:PT1H
X-Robots-Tag:noindex
X-PUBLISHED-TTL:PT1H
BEGIN:VTIMEZONE
TZID:Europe/Berlin
BEGIN:DAYLIGHT
TZOFFSETFROM:+0100
TZOFFSETTO:+0200
TZNAME:CEST
DTSTART:20220327T010000
END:DAYLIGHT
BEGIN:STANDARD
TZOFFSETFROM:+0200
TZOFFSETTO:+0100
TZNAME:CET
DTSTART:20221030T010000
END:STANDARD
BEGIN:DAYLIGHT
TZOFFSETFROM:+0100
TZOFFSETTO:+0200
TZNAME:CEST
DTSTART:20230326T010000
END:DAYLIGHT
BEGIN:STANDARD
TZOFFSETFROM:+0200
TZOFFSETTO:+0100
TZNAME:CET
DTSTART:20231029T010000
END:STANDARD
BEGIN:DAYLIGHT
TZOFFSETFROM:+0100
TZOFFSETTO:+0200
TZNAME:CEST
DTSTART:20240331T010000
END:DAYLIGHT
BEGIN:STANDARD
TZOFFSETFROM:+0200
TZOFFSETTO:+0100
TZNAME:CET
DTSTART:20241027T010000
END:STANDARD
END:VTIMEZONE
BEGIN:VEVENT
DTSTART;TZID=Europe/Berlin:20230927T200000
DTEND;TZID=Europe/Berlin:20230927T210000
DTSTAMP:20260419T145945
CREATED:20230831T141250Z
LAST-MODIFIED:20230926T123932Z
UID:9928-1695844800-1695848400@www.bggroteradler.de
SUMMARY:BGG-Online-Treff: Vortrag & Diskussion
DESCRIPTION:Der 2. BGG-Online-Treff im Winterhalbjahr 2023/24 wird von Annegret Gräfe (heredis-Mitarbeiterin) mit einem Kurzvortrag eingeleitet\, wonach Gelegenheit zur Diskussion besteht. Ein Trailer und weitere Informationen findet Ihr im BGG-YouTube-Kanal (https://youtu.be/-U_o-srGdO8) \nAnnegret stellt die Genealogiesoftware „heredis 2024“ vor. \nBGG „Roter Adler“ e.V. lädt Sie zu einem geplanten Zoom-Meeting ein. \nThema: BGG-Online-Treff: Vortrag\nUhrzeit: 27.Sept. 2023 08:00 PM Amsterdam\, Berlin\, Rom\, Stockholm\, Wien \nZoom-Meeting beitreten\nhttps://us06web.zoom.us/j/83690688163 \nMeeting-ID: 836 9068 8163
URL:https://www.bggroteradler.de/event/bgg-online-treff-vortrag-diskussion/
LOCATION:online per Zoom
CATEGORIES:BGG-Online-Treff,Online-Veranstaltung
ATTACH;FMTTYPE=image/jpeg:https://www.bggroteradler.de/wp-content/uploads/2022/11/video-conference-gb90d5e623_1920.jpg
ORGANIZER;CN="BGG 'Roter Adler' e.V.":MAILTO:kontakt@bggroteradler.de
END:VEVENT
END:VCALENDAR